BEGIN:VCALENDAR
VERSION:2.0
PRODID:-//hacksw/handcal//NONSGML v1.0//EN
BEGIN:VEVENT
SUMMARY:Championnat Regional par Equipes
UID:f6422798-f23a-4a7f-b7d4-115ed9df482e
DTSTART:20260418T070000Z
DTEND:20260419T170000Z
LOCATION:Localisation   
CATEGORIES:Sportif
STATUS:
DESCRIPTION:<p><span style="color:#3498db;"><strong><span
 style="font-size:16px;">Championnat Regional par Equipes :
 </span></strong></span><span style="color:#2ecc71;"><strong><span
 style="font-size:16px;">GAF</span></strong></span><span
 style="color:#3498db;"><strong><span style="font-size:16px;"> :
 Nationales, Performances, Regionales & Poussines TOP 5 et
 </span></strong></span><span style="color:#2ecc71;"><strong><span
 style="font-size:16px;">GAM</span></strong></span><span
 style="color:#3498db;"><strong><span style="font-size:16px;">
 Nationaux & Regionaux</span></strong></span></p>
 
 <p><strong><span
 style="font-size:16px;">Palais des Sports J-Chirac - Montauban – 18
 et 19 Avril 2026</span></strong></p>
 
 <p>C’est avec un grand
 plaisir que l’equipe de l’Avenir Montalbanais se prepare a
 recevoir tous les clubs occitans pour le Championnat regional par
 Equipes GAF & GAM , au sein du palais des Sports Jacques Chirac, mis
 a notre disposition par la municipalite de Montauban. Nous tenons a
 la remercier infiniment pour son soutien. Tous les benevoles,
 entraineurs, dirigeants montalbanais seront sur le pont pour faire de
 ce Week-end un moment convivial afin de vous recevoir dans les
 meilleures conditions ; que vous soyez gymnastes, spectateurs, juges
 ou entraineurs. Nous vous souhaitons a tous une excellente
 competition Bienvenue le 18 et 19 Avril a
 Montauban</p>
 
 <p><strong>Tarif: 8 € par jour (samedi ou dimanche)
 a partir de 12 ans /  12 € les deux jours (CB
 acceptee)</strong></p>
 
 <p><span
 style="font-size:16px;"><u><strong>Buvette et restauration sucree et
 salee sur place (CB acceptee)</strong></u></span></p>
 
 <p><span
 style="color:#e74c3c;"><strong><span style="font-size:16px;">Vous
 retrouverez egalement sur place: Point de vente boutique Justaucorps
 NineNine et Photographe ByMarine</span></strong></span></p>
URL;VALUE=URI:https://www.avenirmontalbanais.fr/evenements/2026/04/18/championnat-regional-par-equipes-2436308
END:VEVENT
END:VCALENDAR
